Package: ChIPpeakAnno Version: 3.43.2 Command: /Library/Frameworks/R.framework/Resources/bin/R CMD check --install=check:ChIPpeakAnno.install-out.txt --library=/Library/Frameworks/R.framework/Resources/library --no-vignettes --timings ChIPpeakAnno_3.43.2.tar.gz StartedAt: 2025-10-27 18:55:25 -0400 (Mon, 27 Oct 2025) EndedAt: 2025-10-27 18:59:19 -0400 (Mon, 27 Oct 2025) EllapsedTime: 233.7 seconds RetCode: 0 Status: OK CheckDir: ChIPpeakAnno.Rcheck Warnings: 0