Package: ChIPexoQual Version: 1.33.1 Command: /home/biocbuild/R/R/bin/R CMD INSTALL ChIPexoQual StartedAt: 2025-10-23 21:06:40 -0000 (Thu, 23 Oct 2025) EndedAt: 2025-10-23 21:07:38 -0000 (Thu, 23 Oct 2025) EllapsedTime: 58.1 seconds RetCode: 0 Status: OK