Package: ChIPexoQual Version: 1.33.1 Command: /home/biocbuild/R/R/bin/R CMD check --install=check:ChIPexoQual.install-out.txt --library=/home/biocbuild/R/R/site-library --no-vignettes --timings ChIPexoQual_1.33.1.tar.gz StartedAt: 2025-10-21 06:27:02 -0000 (Tue, 21 Oct 2025) EndedAt: 2025-10-21 06:35:17 -0000 (Tue, 21 Oct 2025) EllapsedTime: 495.4 seconds RetCode: 0 Status: OK CheckDir: ChIPexoQual.Rcheck Warnings: 0