Package: ChIPexoQual Version: 1.33.1 Command: /home/biocbuild/R/R/bin/R CMD build --keep-empty-dirs --no-resave-data ChIPexoQual StartedAt: 2025-10-20 22:40:31 -0000 (Mon, 20 Oct 2025) EndedAt: 2025-10-20 22:43:43 -0000 (Mon, 20 Oct 2025) EllapsedTime: 192.1 seconds RetCode: 0 Status: OK PackageFile: ChIPexoQual_1.33.1.tar.gz PackageFileSize: 2.169 MiB