Package: ChIPexoQual Version: 1.33.1 Command: F:\biocbuild\bbs-3.22-bioc\R\bin\R.exe CMD INSTALL ChIPexoQual StartedAt: 2025-08-14 16:42:03 -0400 (Thu, 14 Aug 2025) EndedAt: 2025-08-14 16:43:00 -0400 (Thu, 14 Aug 2025) EllapsedTime: 56.8 seconds RetCode: 0 Status: OK