Package: ChIPexoQual Version: 1.33.1 Command: /home/biocbuild/bbs-3.22-bioc/R/bin/R CMD INSTALL ChIPexoQual StartedAt: 2025-10-22 15:43:37 -0400 (Wed, 22 Oct 2025) EndedAt: 2025-10-22 15:44:22 -0400 (Wed, 22 Oct 2025) EllapsedTime: 45.1 seconds RetCode: 0 Status: OK