Package: ChIPexoQual Version: 1.33.1 Command: /Library/Frameworks/R.framework/Resources/bin/R CMD INSTALL ChIPexoQual StartedAt: 2025-10-23 15:22:06 -0400 (Thu, 23 Oct 2025) EndedAt: 2025-10-23 15:22:25 -0400 (Thu, 23 Oct 2025) EllapsedTime: 18.7 seconds RetCode: 0 Status: OK