Package: ChIPexoQual Version: 1.33.1 Command: /Library/Frameworks/R.framework/Resources/bin/R CMD check --install=check:ChIPexoQual.install-out.txt --library=/Library/Frameworks/R.framework/Resources/library --no-vignettes --timings ChIPexoQual_1.33.1.tar.gz StartedAt: 2025-10-22 18:57:33 -0400 (Wed, 22 Oct 2025) EndedAt: 2025-10-22 19:00:12 -0400 (Wed, 22 Oct 2025) EllapsedTime: 158.7 seconds RetCode: 0 Status: OK CheckDir: ChIPexoQual.Rcheck Warnings: 0