Package: ChIPexoQual Version: 1.33.1 Command: /Library/Frameworks/R.framework/Resources/bin/R CMD build --keep-empty-dirs --no-resave-data ChIPexoQual StartedAt: 2025-10-22 15:55:12 -0400 (Wed, 22 Oct 2025) EndedAt: 2025-10-22 15:56:16 -0400 (Wed, 22 Oct 2025) EllapsedTime: 63.8 seconds RetCode: 0 Status: OK PackageFile: ChIPexoQual_1.33.1.tar.gz PackageFileSize: 2.458 MiB