Package: ChIPexoQual Version: 1.33.1 Command: rm -rf ChIPexoQual.buildbin-libdir && mkdir ChIPexoQual.buildbin-libdir && /Users/biocbuild/BBS/utils/build-universal.sh ChIPexoQual_1.33.1.tar.gz /Library/Frameworks/R.framework/Resources/bin/R ChIPexoQual.buildbin-libdir StartedAt: 2025-10-22 22:55:01 -0400 (Wed, 22 Oct 2025) EndedAt: 2025-10-22 22:55:22 -0400 (Wed, 22 Oct 2025) EllapsedTime: 20.3 seconds RetCode: 0 Status: OK PackageFile: ChIPexoQual_1.33.1.tgz PackageFileSize: 2.522 MiB