Package: ChIPanalyser Version: 1.31.0 Command: /home/biocbuild/R/R/bin/R CMD build --keep-empty-dirs --no-resave-data ChIPanalyser StartedAt: 2025-10-20 22:40:04 -0000 (Mon, 20 Oct 2025) EndedAt: 2025-10-20 22:59:25 -0000 (Mon, 20 Oct 2025) EllapsedTime: 1161.1 seconds RetCode: 0 Status: OK PackageFile: ChIPanalyser_1.31.0.tar.gz PackageFileSize: 995 KiB