Package: ChIPanalyser Version: 1.31.0 Command: rm -rf ChIPanalyser.buildbin-libdir && mkdir ChIPanalyser.buildbin-libdir && F:\biocbuild\bbs-3.22-bioc\R\bin\R.exe CMD INSTALL --build --library=ChIPanalyser.buildbin-libdir ChIPanalyser_1.31.0.tar.gz StartedAt: 2025-08-15 09:56:42 -0400 (Fri, 15 Aug 2025) EndedAt: 2025-08-15 09:59:37 -0400 (Fri, 15 Aug 2025) EllapsedTime: 175.3 seconds RetCode: 0 Status: OK PackageFile: ChIPanalyser_1.31.0.zip PackageFileSize: 1.874 MiB