Package: ChIPanalyser Version: 1.31.0 Command: /home/biocbuild/bbs-3.22-bioc/R/bin/R CMD check --install=check:ChIPanalyser.install-out.txt --library=/home/biocbuild/bbs-3.22-bioc/R/site-library --timings ChIPanalyser_1.31.0.tar.gz StartedAt: 2025-10-19 22:05:21 -0400 (Sun, 19 Oct 2025) EndedAt: 2025-10-19 22:10:29 -0400 (Sun, 19 Oct 2025) EllapsedTime: 308.2 seconds RetCode: 0 Status: OK CheckDir: ChIPanalyser.Rcheck Warnings: 0