Package: ChIPanalyser Version: 1.31.0 Command: /home/biocbuild/bbs-3.22-bioc/R/bin/R CMD build --keep-empty-dirs --no-resave-data --md5 ChIPanalyser StartedAt: 2025-10-19 16:49:46 -0400 (Sun, 19 Oct 2025) EndedAt: 2025-10-19 17:05:37 -0400 (Sun, 19 Oct 2025) EllapsedTime: 950.9 seconds RetCode: 0 Status: OK PackageFile: ChIPanalyser_1.31.0.tar.gz PackageFileSize: 1.192 MiB