Package: ChIPanalyser Version: 1.31.0 Command: /Library/Frameworks/R.framework/Resources/bin/R CMD build --keep-empty-dirs --no-resave-data ChIPanalyser StartedAt: 2025-10-19 16:27:56 -0400 (Sun, 19 Oct 2025) EndedAt: 2025-10-19 16:54:51 -0400 (Sun, 19 Oct 2025) EllapsedTime: 1615.3 seconds RetCode: 0 Status: OK PackageFile: ChIPanalyser_1.31.0.tar.gz PackageFileSize: 1014 KiB