Package: ChIPXpress Version: 1.53.0 Command: /home/biocbuild/R/R/bin/R CMD INSTALL ChIPXpress StartedAt: 2025-10-02 21:31:17 -0000 (Thu, 02 Oct 2025) EndedAt: 2025-10-02 21:31:56 -0000 (Thu, 02 Oct 2025) EllapsedTime: 38.9 seconds RetCode: 0 Status: OK