Package: ChIPQC Version: 1.46.0 Command: /Library/Frameworks/R.framework/Resources/bin/R CMD INSTALL ChIPQC StartedAt: 2025-11-17 19:06:41 -0500 (Mon, 17 Nov 2025) EndedAt: 2025-11-17 19:06:41 -0500 (Mon, 17 Nov 2025) EllapsedTime: 0.3 seconds RetCode: 1 Status: ERROR