Package: CexoR Version: 1.48.0 Command: /Library/Frameworks/R.framework/Resources/bin/R CMD INSTALL CexoR StartedAt: 2025-11-17 18:00:16 -0500 (Mon, 17 Nov 2025) EndedAt: 2025-11-17 18:00:31 -0500 (Mon, 17 Nov 2025) EllapsedTime: 14.9 seconds RetCode: 0 Status: OK