Package: CexoR Version: 1.48.0 Command: rm -rf CexoR.buildbin-libdir && mkdir CexoR.buildbin-libdir && /Users/biocbuild/BBS/utils/build-universal.sh CexoR_1.48.0.tar.gz /Library/Frameworks/R.framework/Resources/bin/R CexoR.buildbin-libdir StartedAt: 2025-11-18 15:15:28 -0500 (Tue, 18 Nov 2025) EndedAt: 2025-11-18 15:15:47 -0500 (Tue, 18 Nov 2025) EllapsedTime: 19.2 seconds RetCode: 0 Status: OK PackageFile: CexoR_1.48.0.tgz PackageFileSize: 1.694 MiB