Package: CellTrails Version: 1.27.1 Command: /home/biocbuild/bbs-3.22-bioc/R/bin/R CMD INSTALL CellTrails StartedAt: 2025-10-20 15:17:41 -0400 (Mon, 20 Oct 2025) EndedAt: 2025-10-20 15:18:10 -0400 (Mon, 20 Oct 2025) EllapsedTime: 29.1 seconds RetCode: 0 Status: OK