Package: CellTrails Version: 1.27.1 Command: /home/biocbuild/bbs-3.22-bioc/R/bin/R CMD build --keep-empty-dirs --no-resave-data --md5 CellTrails StartedAt: 2025-10-19 16:45:21 -0400 (Sun, 19 Oct 2025) EndedAt: 2025-10-19 16:46:08 -0400 (Sun, 19 Oct 2025) EllapsedTime: 47.0 seconds RetCode: 0 Status: OK PackageFile: CellTrails_1.27.1.tar.gz PackageFileSize: 2.634 MiB