Package: CellTrails Version: 1.27.1 Command: /Library/Frameworks/R.framework/Resources/bin/R CMD check --install=check:CellTrails.install-out.txt --library=/Library/Frameworks/R.framework/Resources/library --no-vignettes --timings CellTrails_1.27.1.tar.gz StartedAt: 2025-10-20 20:59:23 -0400 (Mon, 20 Oct 2025) EndedAt: 2025-10-20 21:04:15 -0400 (Mon, 20 Oct 2025) EllapsedTime: 291.6 seconds RetCode: 0 Status: OK CheckDir: CellTrails.Rcheck Warnings: 0