Package: CellTrails Version: 1.27.1 Command: /Library/Frameworks/R.framework/Resources/bin/R CMD build --keep-empty-dirs --no-resave-data CellTrails StartedAt: 2025-10-20 16:23:32 -0400 (Mon, 20 Oct 2025) EndedAt: 2025-10-20 16:24:26 -0400 (Mon, 20 Oct 2025) EllapsedTime: 54.8 seconds RetCode: 0 Status: OK PackageFile: CellTrails_1.27.1.tar.gz PackageFileSize: 2.628 MiB