Package: CellTrails Version: 1.27.1 Command: rm -rf CellTrails.buildbin-libdir && mkdir CellTrails.buildbin-libdir && /Users/biocbuild/BBS/utils/build-universal.sh CellTrails_1.27.1.tar.gz /Library/Frameworks/R.framework/Resources/bin/R CellTrails.buildbin-libdir StartedAt: 2025-10-21 03:03:12 -0400 (Tue, 21 Oct 2025) EndedAt: 2025-10-21 03:03:59 -0400 (Tue, 21 Oct 2025) EllapsedTime: 47.3 seconds RetCode: 0 Status: OK PackageFile: CellTrails_1.27.1.tgz PackageFileSize: 3.008 MiB