Package: CellTrails Version: 1.27.1 Command: /Library/Frameworks/R.framework/Resources/bin/R CMD INSTALL CellTrails StartedAt: 2025-10-22 15:12:23 -0400 (Wed, 22 Oct 2025) EndedAt: 2025-10-22 15:12:36 -0400 (Wed, 22 Oct 2025) EllapsedTime: 12.4 seconds RetCode: 0 Status: OK