Package: CellTrails Version: 1.27.1 Maintainer: Daniel Ellwanger MaintainerEmail: dc.ellwanger.dev at gmail.com git_url: https://git.bioconductor.org/packages/CellTrails git_branch: devel git_last_commit: c14d7fd git_last_commit_date: 2025-10-14 14:32:29 -0400 (Tue, 14 Oct 2025)