Package: CellScore Version: 1.29.1 Command: /home/biocbuild/R/R/bin/R CMD INSTALL CellScore StartedAt: 2025-10-16 21:31:11 -0000 (Thu, 16 Oct 2025) EndedAt: 2025-10-16 21:31:39 -0000 (Thu, 16 Oct 2025) EllapsedTime: 27.8 seconds RetCode: 0 Status: OK