Package: CellScore Version: 1.29.1 Command: /home/biocbuild/R/R/bin/R CMD build --keep-empty-dirs --no-resave-data CellScore StartedAt: 2025-10-16 23:52:24 -0000 (Thu, 16 Oct 2025) EndedAt: 2025-10-16 23:56:13 -0000 (Thu, 16 Oct 2025) EllapsedTime: 229.1 seconds RetCode: 1 Status: ERROR PackageFile: None PackageFileSize: NA