Package: CellScore Version: 1.29.1 Command: /Library/Frameworks/R.framework/Resources/bin/R CMD INSTALL CellScore StartedAt: 2025-10-19 15:21:43 -0400 (Sun, 19 Oct 2025) EndedAt: 2025-10-19 15:22:11 -0400 (Sun, 19 Oct 2025) EllapsedTime: 28.8 seconds RetCode: 0 Status: OK