Package: CellNOptR Version: 1.55.0 Command: /home/biocbuild/R/R/bin/R CMD INSTALL CellNOptR StartedAt: 2025-10-20 20:26:51 -0000 (Mon, 20 Oct 2025) EndedAt: 2025-10-20 20:27:14 -0000 (Mon, 20 Oct 2025) EllapsedTime: 22.8 seconds RetCode: 0 Status: OK