Package: CellNOptR Version: 1.55.0 Command: /home/biocbuild/bbs-3.22-bioc/R/bin/R CMD check --install=check:CellNOptR.install-out.txt --library=/home/biocbuild/bbs-3.22-bioc/R/site-library --timings CellNOptR_1.55.0.tar.gz StartedAt: 2025-10-19 21:58:18 -0400 (Sun, 19 Oct 2025) EndedAt: 2025-10-19 22:00:15 -0400 (Sun, 19 Oct 2025) EllapsedTime: 117.1 seconds RetCode: 0 Status: OK CheckDir: CellNOptR.Rcheck Warnings: 0