Package: CellNOptR Version: 1.55.0 Command: /Library/Frameworks/R.framework/Resources/bin/R CMD check --install=check:CellNOptR.install-out.txt --library=/Library/Frameworks/R.framework/Resources/library --no-vignettes --timings CellNOptR_1.55.0.tar.gz StartedAt: 2025-10-19 20:57:32 -0400 (Sun, 19 Oct 2025) EndedAt: 2025-10-19 21:00:08 -0400 (Sun, 19 Oct 2025) EllapsedTime: 156.2 seconds RetCode: 0 Status: OK CheckDir: CellNOptR.Rcheck Warnings: 0