Package: CellNOptR Version: 1.55.0 Command: /Library/Frameworks/R.framework/Resources/bin/R CMD build --keep-empty-dirs --no-resave-data CellNOptR StartedAt: 2025-10-19 16:25:00 -0400 (Sun, 19 Oct 2025) EndedAt: 2025-10-19 16:25:39 -0400 (Sun, 19 Oct 2025) EllapsedTime: 38.8 seconds RetCode: 0 Status: OK PackageFile: CellNOptR_1.55.0.tar.gz PackageFileSize: 3.589 MiB