Package: CellNOptR Version: 1.55.0 Command: /Library/Frameworks/R.framework/Resources/bin/R CMD INSTALL CellNOptR StartedAt: 2025-10-21 15:09:01 -0400 (Tue, 21 Oct 2025) EndedAt: 2025-10-21 15:09:07 -0400 (Tue, 21 Oct 2025) EllapsedTime: 6.0 seconds RetCode: 0 Status: OK