Package: CellMixS Version: 1.26.0 Command: /Library/Frameworks/R.framework/Resources/bin/R CMD check --install=check:CellMixS.install-out.txt --library=/Library/Frameworks/R.framework/Resources/library --no-vignettes --timings CellMixS_1.26.0.tar.gz StartedAt: 2025-11-18 03:48:18 -0500 (Tue, 18 Nov 2025) EndedAt: 2025-11-18 03:50:09 -0500 (Tue, 18 Nov 2025) EllapsedTime: 111.0 seconds RetCode: 0 Status: OK CheckDir: CellMixS.Rcheck Warnings: 0