Package: CellMixS Version: 1.26.0 Command: /Library/Frameworks/R.framework/Resources/bin/R CMD build --keep-empty-dirs --no-resave-data CellMixS StartedAt: 2025-11-17 19:42:59 -0500 (Mon, 17 Nov 2025) EndedAt: 2025-11-17 19:43:56 -0500 (Mon, 17 Nov 2025) EllapsedTime: 56.6 seconds RetCode: 0 Status: OK PackageFile: CellMixS_1.26.0.tar.gz PackageFileSize: 4.124 MiB