Package: CausalR Version: 1.41.0 Command: /home/biocbuild/R/R/bin/R CMD build --keep-empty-dirs --no-resave-data CausalR StartedAt: 2025-09-29 22:41:01 -0000 (Mon, 29 Sep 2025) EndedAt: 2025-09-29 22:41:20 -0000 (Mon, 29 Sep 2025) EllapsedTime: 19.0 seconds RetCode: 0 Status: OK PackageFile: CausalR_1.41.0.tar.gz PackageFileSize: 561.2 KiB