Package: CatsCradle Version: 1.3.0 Command: /home/biocbuild/R/R/bin/R CMD INSTALL CatsCradle StartedAt: 2025-10-16 21:33:00 -0000 (Thu, 16 Oct 2025) EndedAt: 2025-10-16 21:33:55 -0000 (Thu, 16 Oct 2025) EllapsedTime: 54.2 seconds RetCode: 0 Status: OK