Package: CatsCradle Version: 1.3.0 Command: /home/biocbuild/R/R/bin/R CMD check --install=check:CatsCradle.install-out.txt --library=/home/biocbuild/R/R/site-library --no-vignettes --timings CatsCradle_1.3.0.tar.gz StartedAt: 2025-08-26 06:17:44 -0000 (Tue, 26 Aug 2025) EndedAt: 2025-08-26 06:28:32 -0000 (Tue, 26 Aug 2025) EllapsedTime: 647.6 seconds RetCode: 0 Status: OK CheckDir: CatsCradle.Rcheck Warnings: 0