Package: CatsCradle Version: 1.3.0 Command: chmod a+r CatsCradle -R && F:\biocbuild\bbs-3.22-bioc\R\bin\R.exe CMD build --keep-empty-dirs --no-resave-data CatsCradle StartedAt: 2025-08-14 18:56:29 -0400 (Thu, 14 Aug 2025) EndedAt: 2025-08-14 19:07:18 -0400 (Thu, 14 Aug 2025) EllapsedTime: 648.3 seconds RetCode: 0 Status: OK PackageFile: CatsCradle_1.3.0.tar.gz PackageFileSize: 3.146 MiB