Package: CatsCradle Version: 1.3.0 Command: rm -rf CatsCradle.buildbin-libdir && mkdir CatsCradle.buildbin-libdir && F:\biocbuild\bbs-3.22-bioc\R\bin\R.exe CMD INSTALL --build --library=CatsCradle.buildbin-libdir CatsCradle_1.3.0.tar.gz StartedAt: 2025-08-15 09:54:13 -0400 (Fri, 15 Aug 2025) EndedAt: 2025-08-15 09:55:47 -0400 (Fri, 15 Aug 2025) EllapsedTime: 93.2 seconds RetCode: 0 Status: OK PackageFile: CatsCradle_1.3.0.zip PackageFileSize: 3.151 MiB