Package: CatsCradle Version: 1.4.1 Command: /Library/Frameworks/R.framework/Resources/bin/R CMD INSTALL CatsCradle StartedAt: 2025-11-17 17:27:35 -0500 (Mon, 17 Nov 2025) EndedAt: 2025-11-17 17:29:05 -0500 (Mon, 17 Nov 2025) EllapsedTime: 90.4 seconds RetCode: 0 Status: OK