Package: CatsCradle Version: 1.4.1 Command: /Library/Frameworks/R.framework/Resources/bin/R CMD build --keep-empty-dirs --no-resave-data CatsCradle StartedAt: 2025-11-17 20:55:22 -0500 (Mon, 17 Nov 2025) EndedAt: 2025-11-17 21:12:16 -0500 (Mon, 17 Nov 2025) EllapsedTime: 1014.0 seconds RetCode: 0 Status: OK PackageFile: CatsCradle_1.4.1.tar.gz PackageFileSize: 9.23 MiB