Package: CatsCradle Version: 1.4.1 Command: rm -rf CatsCradle.buildbin-libdir && mkdir CatsCradle.buildbin-libdir && /Users/biocbuild/BBS/utils/build-universal.sh CatsCradle_1.4.1.tar.gz /Library/Frameworks/R.framework/Resources/bin/R CatsCradle.buildbin-libdir StartedAt: 2025-11-18 17:18:17 -0500 (Tue, 18 Nov 2025) EndedAt: 2025-11-18 17:19:52 -0500 (Tue, 18 Nov 2025) EllapsedTime: 94.9 seconds RetCode: 0 Status: OK PackageFile: CatsCradle_1.4.1.tgz PackageFileSize: 9.269 MiB