Package: CatsCradle Version: 1.3.0 Command: /Library/Frameworks/R.framework/Resources/bin/R CMD INSTALL CatsCradle StartedAt: 2025-10-16 15:48:39 -0400 (Thu, 16 Oct 2025) EndedAt: 2025-10-16 15:49:37 -0400 (Thu, 16 Oct 2025) EllapsedTime: 58.6 seconds RetCode: 0 Status: OK