Package: CatsCradle Version: 1.3.0 Command: /Library/Frameworks/R.framework/Resources/bin/R CMD build --keep-empty-dirs --no-resave-data CatsCradle StartedAt: 2025-10-16 16:47:54 -0400 (Thu, 16 Oct 2025) EndedAt: 2025-10-16 16:56:34 -0400 (Thu, 16 Oct 2025) EllapsedTime: 520.5 seconds RetCode: 1 Status: ERROR PackageFile: None PackageFileSize: NA