Package: CatsCradle Version: 1.3.0 Command: rm -rf CatsCradle.buildbin-libdir && mkdir CatsCradle.buildbin-libdir && /Users/biocbuild/BBS/utils/build-universal.sh CatsCradle_1.3.0.tar.gz /Library/Frameworks/R.framework/Resources/bin/R CatsCradle.buildbin-libdir StartedAt: 2025-08-28 00:58:12 -0400 (Thu, 28 Aug 2025) EndedAt: 2025-08-28 00:59:10 -0400 (Thu, 28 Aug 2025) EllapsedTime: 57.9 seconds RetCode: 0 Status: OK PackageFile: CatsCradle_1.3.0.tgz PackageFileSize: 8.495 MiB