Package: Category Version: 2.76.0 Command: /home/biocbuild/R/R/bin/R CMD build --keep-empty-dirs --no-resave-data Category StartedAt: 2025-11-11 00:14:09 -0000 (Tue, 11 Nov 2025) EndedAt: 2025-11-11 00:15:49 -0000 (Tue, 11 Nov 2025) EllapsedTime: 100.0 seconds RetCode: 0 Status: OK PackageFile: Category_2.76.0.tar.gz PackageFileSize: 859.9 KiB