Package: Cardinal Version: 3.11.1 Command: /home/biocbuild/R/R/bin/R CMD INSTALL Cardinal StartedAt: 2025-10-23 20:31:51 -0000 (Thu, 23 Oct 2025) EndedAt: 2025-10-23 20:32:31 -0000 (Thu, 23 Oct 2025) EllapsedTime: 40.2 seconds RetCode: 0 Status: OK