Package: Cardinal Version: 3.11.1 Command: /home/biocbuild/bbs-3.22-bioc/R/bin/R CMD check --install=check:Cardinal.install-out.txt --library=/home/biocbuild/bbs-3.22-bioc/R/site-library --timings Cardinal_3.11.1.tar.gz StartedAt: 2025-10-24 21:52:08 -0400 (Fri, 24 Oct 2025) EndedAt: 2025-10-24 22:06:18 -0400 (Fri, 24 Oct 2025) EllapsedTime: 849.9 seconds RetCode: 0 Status: OK CheckDir: Cardinal.Rcheck Warnings: 0